BEGIN:VCALENDAR
VERSION:2.0
PRODID:-//Library Market//iCal Export//EN
BEGIN:VEVENT
SUMMARY:Altered Reality Book Club
UID:14426
DTSTAMP:20260421T041800Z
DTSTART:20260723T223000Z
DTEND:20260723T233000Z
LOCATION:Doughy Joey&#039;s, 300 W 4th Street, Waterloo, IA 50701, United 
 States
ROOM: Altered Reality Book Club
DESCRIPTION:We will be discussing of Monsters and Mainframes by Barbara Tr
 uelove.
URL:https://www.waterloopubliclibrary.org/event/altered-reality-book-club-
 14426
END:VEVENT
END:VCALENDAR
