BEGIN:VCALENDAR
VERSION:2.0
PRODID:-//Library Market//iCal Export//EN
BEGIN:VEVENT
SUMMARY:Altered Reality Book Club
UID:14425
DTSTAMP:20260421T023300Z
DTSTART:20260625T223000Z
DTEND:20260625T233000Z
LOCATION:Doughy Joey&#039;s, 300 W 4th Street, Waterloo, IA 50701, United 
 States
ROOM: Altered Reality Book Club
DESCRIPTION:We will be discussing One Dark Window by Rachel Gillig.
URL:https://www.waterloopubliclibrary.org/event/altered-reality-book-club-
 14425
END:VEVENT
END:VCALENDAR
