BEGIN:VCALENDAR
VERSION:2.0
PRODID:-//Library Market//iCal Export//EN
BEGIN:VEVENT
SUMMARY:Ice Cream Social
UID:14298
DTSTAMP:20260423T093700Z
DTSTART:20260724T180000Z
DTEND:20260724T200000Z
LOCATION:Waterloo Public Library, 415 Commercial Street, Waterloo, IA 5070
 1, United States
ROOM: Library Courtyard
DESCRIPTION:We&#039;re incredibly grateful for our patrons and their unwav
 ering support, patience, and encouragement! As a token of our appreciation
 , we invite you to enjoy a scoop of ice cream on us. Join us outside in th
 e courtyard, weather permitting, and make your visit even sweeter! While s
 upplies last.Photos or videos may be taken at this event.All Ages
URL:https://www.waterloopubliclibrary.org/event/ice-cream-social-14298
END:VEVENT
END:VCALENDAR
