BEGIN:VCALENDAR
VERSION:2.0
PRODID:-//Library Market//iCal Export//EN
BEGIN:VEVENT
SUMMARY:Carrot Day at Waterloo Urban Famers Market
UID:14061
DTSTAMP:20260423T023000Z
DTSTART:20260627T130000Z
DTEND:20260627T173000Z
LOCATION:Waterloo Urban Farmers Market, 460 Jefferson St, Waterloo, IA 507
 01, United States
ROOM: Carrot Day at Waterloo Urban Famers Market
DESCRIPTION:Join us for Carrot Day at the Waterloo Urban Farmers Market! W
 e’ll dig into all things carrots — plus radishes and lettuce — and l
 earn how to plant these cool-season favorites for a delicious fall harvest
 . Enjoy a special storytime at 10:30 at the Farmers Market, veggie-themed 
 crafts, and great deals from local vendors. (rain or shine)The 2026 Youth 
 Summer Library Program is made possible with support from Friends of the 
 Waterloo Public Library.Age group: Youth
URL:https://www.waterloopubliclibrary.org/event/carrot-day-waterloo-urban-
 famers-market-14061
END:VEVENT
END:VCALENDAR
