BEGIN:VCALENDAR
VERSION:2.0
PRODID:-//Library Market//iCal Export//EN
BEGIN:VEVENT
SUMMARY:Marcus Theater Movie Day
UID:14060
DTSTAMP:20260423T093700Z
DTSTART:20260723T160000Z
DTEND:20260723T180000Z
LOCATION:Marcus Crossroads Cinema, 2450 Crossroads Blvd, Waterloo, IA 5070
 2, United States
ROOM: Marcus Theater Movie Day
DESCRIPTION:Your library card is your free ticket to a movie on July 23! J
 oin us at Marcus Crossroads Cinema in Waterloo for a free showing of the n
 ew live-action Moana. Simply show your library card at the ticket booth fo
 r admission. Arrive early to purchase snacks and drinks, grab your seat, a
 nd enjoy the show!The 2026 Teen Summer Library Program is made possible w
 ith support from Friends of the Waterloo Public Library.Age group: Familie
 s
URL:https://www.waterloopubliclibrary.org/event/marcus-theater-movie-day-1
 4060
END:VEVENT
END:VCALENDAR
