BEGIN:VCALENDAR
VERSION:2.0
PRODID:-//Library Market//iCal Export//EN
BEGIN:VEVENT
SUMMARY:Picnic in the Arboretum
UID:14055
DTSTAMP:20260423T074200Z
DTSTART:20260714T150000Z
DTEND:20260714T220000Z
LOCATION:Cedar Valley Arboretum &amp; Botanic Gardens, 1927 E Orange Rd, W
 aterloo, IA 50701, United States
ROOM: Picnic in the Arboretum
DESCRIPTION:Pack your picnic basket and bring your library card—it’s y
 our free ticket to a beautiful day at the Cedar Valley Arboretum! Join us 
 for guided tours from 10 AM–12 PM and 3 PM–5 PM. Relax and enjoy your 
 picnic between tours. We’ll have light snacks, water, and lawn games to 
 add to the fun. Come explore the gardens and spend a delightful afternoon 
 with us! This program is weather permitting.The 2026 Teen Summer Library P
 rogram is made possible with support from Friends of the Waterloo Public 
 Library.Age group: Families
URL:https://www.waterloopubliclibrary.org/event/picnic-arboretum-14055
END:VEVENT
END:VCALENDAR
