BEGIN:VCALENDAR
VERSION:2.0
PRODID:-//Library Market//iCal Export//EN
BEGIN:VEVENT
SUMMARY:Barnyard Bash: A Summer Send-Off Celebration!
UID:13993
DTSTAMP:20260423T093700Z
DTSTART:20260722T193000Z
DTEND:20260722T213000Z
LOCATION:United States
ROOM: W. 3rd Street (between the library parking lot and SingleSpeed)
DESCRIPTION:Alpacas and goats and sheep, oh my! The Youth Summer Library P
 rogram is wrapping up, and we’re celebrating in the most adorable way po
 ssible—with a petting zoo!The Hovick Family Farm will be outside the lib
 rary with a variety of friendly animals ready for some gentle pets. After 
 you’ve spent time with the animals, head inside to the Meeting Rooms for
  crafts, games, and more fun as we give summer a proper send-off.The 2026 
 Youth Summer Library Program is made possible with support from Friends o
 f the Waterloo Public Library.Photos or videos may be taken at this event.
 Age group: Youth
URL:https://www.waterloopubliclibrary.org/event/barnyard-bash-summer-send-
 celebration-13993
END:VEVENT
END:VCALENDAR
