BEGIN:VCALENDAR
VERSION:2.0
PRODID:-//Library Market//iCal Export//EN
BEGIN:VEVENT
SUMMARY:Hoop Dreams with B
UID:13992
DTSTAMP:20260423T074200Z
DTSTART:20260718T153000Z
DTEND:20260718T163000Z
LOCATION:Waterloo Public Library, 415 Commercial Street, Waterloo, IA 5070
 1, United States
ROOM: Meeting Room AB
DESCRIPTION:Did you know that hula hooping offers both mental and physical
  benefits? Join Hoop Dreams with B at the library for a fun-filled session
  where you&#039;ll learn exciting new tricks and enjoy a hula hoop perform
 ance by Breanna and Brandi! The 2026 Youth Summer Library Program is made
  possible with support from Friends of the Waterloo Public Library.Photos
  or videos may be taken at this event.Age group: Youth
URL:https://www.waterloopubliclibrary.org/event/hoop-dreams-b-13992
END:VEVENT
END:VCALENDAR
