BEGIN:VCALENDAR
VERSION:2.0
PRODID:-//Library Market//iCal Export//EN
BEGIN:VEVENT
SUMMARY:Diorama Day at the Library (Drop-In)
UID:13991
DTSTAMP:20260423T074200Z
DTSTART:20260715T160000Z
DTEND:20260715T210000Z
LOCATION:Waterloo Public Library, 415 Commercial Street, Waterloo, IA 5070
 1, United States
ROOM: Meeting Room AB
DESCRIPTION:Join us for an open-house-style diorama-making day at the libr
 ary! Whether you already have a topic in mind or want to explore something
  new using our library resources, we’ll help you turn your ideas into a 
 beautiful diorama. A variety of materials will be provided, and your creat
 ions will be on display throughout August for other curious patrons to enj
 oy and learn from!The 2026 Youth Summer Library Program is made possible 
 with support from Friends of the Waterloo Public Library.Age group: Youth
URL:https://www.waterloopubliclibrary.org/event/diorama-day-library-13991
END:VEVENT
END:VCALENDAR
