BEGIN:VCALENDAR
VERSION:2.0
PRODID:-//Library Market//iCal Export//EN
BEGIN:VEVENT
SUMMARY:Teen Plant Swap
UID:13989
DTSTAMP:20260423T104700Z
DTSTART:20260717T190000Z
DTEND:20260717T200000Z
LOCATION:Waterloo Public Library, 415 Commercial Street, Waterloo, IA 5070
 1, United States
ROOM: Meeting Room AB
DESCRIPTION:Teens— swap plants with other plant enthusiasts at our Teen 
 Plant Swap! Bring rooted cuttings, potted plants (whether indoor or outdoo
 r), and trade away. New to the plant world? Library staff will provide som
 e small, rooted cuttings to get you started if you have nothing to swap! P
 lease make sure any plants you bring are pest-free. This plant swap is not
  the bartering kind- please only bring plants that you are willing to reho
 me.The 2026 Teen Summer Library Program is made possible with support fro
 m Friends of the Waterloo Public Library.Age group: Teens
URL:https://www.waterloopubliclibrary.org/event/teen-plant-swap-13989
END:VEVENT
END:VCALENDAR
