BEGIN:VCALENDAR
VERSION:2.0
PRODID:-//Library Market//iCal Export//EN
BEGIN:VEVENT
SUMMARY:Mega Foam Blaster with Absolute Science
UID:13968
DTSTAMP:20260423T061200Z
DTSTART:20260711T150000Z
DTEND:20260711T170000Z
LOCATION:United States
ROOM: W. 3rd Street (between the library parking lot and SingleSpeed)
DESCRIPTION:Absolute Science is bringing their Mega Foam Blaster to the li
 brary!Join us in the parking lot for some larger-than-life, foam-filled fu
 n you won’t want to miss! The foam is non-slippery, non-toxic, non-stain
 ing, non-allergenic, and biodegradable—safe for all ages and friendly to
  the environment. Subject to cancellation in the event of severe weather.T
 he 2026 Youth Summer Library Program is made possible with support from F
 riends of the Waterloo Public Library.Photos or videos may be taken at thi
 s event. Age group: 1st through 5th grade
URL:https://www.waterloopubliclibrary.org/event/mega-foam-blaster-absolute
 -science-13968
END:VEVENT
END:VCALENDAR
