BEGIN:VCALENDAR
VERSION:2.0
PRODID:-//Library Market//iCal Export//EN
BEGIN:VEVENT
SUMMARY:DIY Bird Feeder
UID:13966
DTSTAMP:20260423T042100Z
DTSTART:20260701T180000Z
DTEND:20260701T190000Z
LOCATION:Waterloo Public Library, 415 Commercial Street, Waterloo, IA 5070
 1, United States
ROOM: Meeting Room AB
DESCRIPTION:Learn how to craft your very own eco-friendly birdfeeder! Join
  us as we repurpose recycled materials to craft a simple yet effective fee
 der that will attract local birds to your yard. Don&#039;t miss out—be s
 ure to stop by while supplies are available! The 2026 Youth Summer Librar
 y Program is made possible with support from Friends of the Waterloo Publ
 ic Library.Age group: Families
URL:https://www.waterloopubliclibrary.org/event/diy-bird-feeder-13966
END:VEVENT
END:VCALENDAR
