BEGIN:VCALENDAR
VERSION:2.0
PRODID:-//Library Market//iCal Export//EN
BEGIN:VEVENT
SUMMARY:LEGO Lab
UID:13963
DTSTAMP:20260423T023000Z
DTSTART:20260625T150000Z
DTEND:20260625T160000Z
LOCATION:Waterloo Public Library, 415 Commercial Street, Waterloo, IA 5070
 1, United States
ROOM: Meeting Room AB
DESCRIPTION:Plant a seed of imagination with LEGO Lab at the library! Buil
 d, create, and watch your masterpiece grow! Once finished, your creation w
 ill be displayed in the Youth Department for all to see. The 2026 Youth S
 ummer Library Program is made possible with support from Friends of the W
 aterloo Public Library.Age group: Youth
URL:https://www.waterloopubliclibrary.org/event/lego-lab-13963
END:VEVENT
END:VCALENDAR
