BEGIN:VCALENDAR
VERSION:2.0
PRODID:-//Library Market//iCal Export//EN
BEGIN:VEVENT
SUMMARY:Reptiles, Snakes, and Spiders, Oh My!
UID:13960
DTSTAMP:20260423T010200Z
DTSTART:20260620T143000Z
DTEND:20260620T153000Z
LOCATION:Waterloo Public Library, 415 Commercial Street, Waterloo, IA 5070
 1, United States
ROOM: Meeting Room AB
DESCRIPTION:If it slithers, crawls, or climbs, there’s a good chance it 
 will be at the library when reptile enthusiast Lindsay Butikofer visits WP
 L! Here’s your chance to get up close and personal with a variety of liz
 ards, snakes, and arachnids! Lindsay is excited to give kids and adults al
 ike the opportunity to learn about, discuss, touch, and even hold some of 
 her favorite animals.The 2026 Youth Summer Library Program is made possibl
 e with support from Friends of the Waterloo Public Library.Photos or vide
 os may be taken at this event.Age group: Youth
URL:https://www.waterloopubliclibrary.org/event/reptiles-snakes-and-spider
 s-oh-my-13960
END:VEVENT
END:VCALENDAR
