BEGIN:VCALENDAR
VERSION:2.0
PRODID:-//Library Market//iCal Export//EN
BEGIN:VEVENT
SUMMARY:Seedling Scholars Trivia
UID:13958
DTSTAMP:20260422T233700Z
DTSTART:20260609T220000Z
DTEND:20260609T230000Z
LOCATION:Waterloo Public Library, 415 Commercial Street, Waterloo, IA 5070
 1, United States
ROOM: Meeting Room AB
DESCRIPTION:Put your plant and gardening knowledge to the test at our spec
 ial Summer Trivia event!Answer the most questions correctly and youâ€™ll t
 ake home a prize!Â The 2026 Youth Summer Library Program is made possibleÂ
  with support from Friends of the Waterloo Public Library.Age group: Grade
 s 4-6
URL:https://www.waterloopubliclibrary.org/event/seedling-scholars-trivia-1
 3958
END:VEVENT
END:VCALENDAR
