BEGIN:VCALENDAR
VERSION:2.0
PRODID:-//Library Market//iCal Export//EN
BEGIN:VEVENT
SUMMARY:Mess Fest!
UID:13957
DTSTAMP:20260422T233700Z
DTSTART:20260611T153000Z
DTEND:20260611T163000Z
LOCATION:United States
ROOM: W. 3rd Street (between the library parking lot and SingleSpeed)
DESCRIPTION:Are you ready to make a mess? The WPL is kicking off the 2026 
 Summer Library Program by bringing back one of our most popular events, Me
 ss Fest! We&#039;ll turn W. 3rd Street into Waterloo&#039;s largest sandbo
 x, and provide everything needed to make the castles of your dreams. Also 
 on tap, bubbles, sidewalk chalk, games, and more! You&#039;ll even have a 
 chance to meet members of the Waterloo Fire Department. Treats will be pro
 vided. This program is weather permitting and no rain date will be schedul
 ed. The 2026 Youth Summer Library Program is made possible with support 
 from Friends of the Waterloo Public Library.Photos or videos may be taken 
 at this event.Age group: Families
URL:https://www.waterloopubliclibrary.org/event/mess-fest-13957
END:VEVENT
END:VCALENDAR
