BEGIN:VCALENDAR
VERSION:2.0
PRODID:-//Library Market//iCal Export//EN
BEGIN:VEVENT
SUMMARY:Mini Terracotta Pot Painting
UID:13955
DTSTAMP:20260423T123700Z
DTSTART:20260720T190000Z
DTEND:20260720T200000Z
LOCATION:Waterloo Public Library, 415 Commercial Street, Waterloo, IA 5070
 1, United States
ROOM: Meeting Room AB
DESCRIPTION:Do you love plants and painting? Join us for a drop-in mini te
 rracotta pot painting session in the meeting rooms! Staff will showcase a 
 few examples to get you started. Clay pots and paint supplies will be prov
 ided. Attendees will even get to plant a mini pothos cutting or two in the
 ir pots to take home with them!The 2026 Teen Summer Library Program is mad
 e possible with support from Friends of the Waterloo Public Library.Age g
 roup: Teens
URL:https://www.waterloopubliclibrary.org/event/mini-terracotta-pot-painti
 ng-13955
END:VEVENT
END:VCALENDAR
