BEGIN:VCALENDAR
VERSION:2.0
PRODID:-//Library Market//iCal Export//EN
BEGIN:VEVENT
SUMMARY:Super Mario Galaxy Movie Afternoon
UID:13954
DTSTAMP:20260423T104700Z
DTSTART:20260716T203000Z
DTEND:20260716T223000Z
LOCATION:Waterloo Public Library, 415 Commercial Street, Waterloo, IA 5070
 1, United States
ROOM: Meeting Room AB
DESCRIPTION:Join us in the meeting rooms for a special afternoon screening
  of Super Mario Galaxy! Popcorn, snacks, and pops will be provided for eve
 ryone to enjoy.The 2026 Teen Summer Library Program is made possible with
  support from Friends of the Waterloo Public Library.Age group: Teens
URL:https://www.waterloopubliclibrary.org/event/super-mario-galaxy-movie-a
 fternoon-13954
END:VEVENT
END:VCALENDAR
