BEGIN:VCALENDAR
VERSION:2.0
PRODID:-//Library Market//iCal Export//EN
BEGIN:VEVENT
SUMMARY:Paint Your Story
UID:13948
DTSTAMP:20260423T040500Z
DTSTART:20260617T170000Z
DTEND:20260617T190000Z
LOCATION:Waterloo Public Library, 415 Commercial Street, Waterloo, IA 5070
 1, United States
ROOM: Library Garage
DESCRIPTION:Have you ever noticed the ceiling tiles in the Teen Department
  painted to look like popular teen book titles? Now it’s your turn to le
 ave your mark! Join us for a fun afternoon of art with guidance from libra
 ry staff. When you’re finished, your tile will join the others on the Te
 en area ceiling for everyone to admire. Registration is required. Click he
 re to register. The 2026 Teen Summer Library Program is made possible wi
 th support from Friends of the Waterloo Public Library.Age group: Teens
URL:https://www.waterloopubliclibrary.org/event/paint-your-story-13948
END:VEVENT
END:VCALENDAR
