BEGIN:VCALENDAR
VERSION:2.0
PRODID:-//Library Market//iCal Export//EN
BEGIN:VEVENT
SUMMARY:Fore! Fun at the Library
UID:13946
DTSTAMP:20260422T233700Z
DTSTART:20260612T150000Z
DTEND:20260612T210000Z
LOCATION:Waterloo Public Library, 415 Commercial Street, Waterloo, IA 5070
 1, United States
ROOM: Youth Department
DESCRIPTION:Beat the heat and play some putt-putt at your library! Stop by
  the Youth Department anytime between 10am and 4pm for your map of our 9-h
 ole course, and enjoy family-friendly mini golf throughout the first and s
 econd floors.The 2026 Youth and Teen Summer Library Program is made possib
 le with support from Friends of the Waterloo Public Library.Age group: Al
 l ages
URL:https://www.waterloopubliclibrary.org/event/fore-fun-library-13946
END:VEVENT
END:VCALENDAR
