BEGIN:VCALENDAR
VERSION:2.0
PRODID:-//Library Market//iCal Export//EN
BEGIN:VEVENT
SUMMARY:Music Together®
UID:13852
DTSTAMP:20260423T074200Z
DTSTART:20260717T153000Z
DTEND:20260717T163000Z
LOCATION:Waterloo Public Library, 415 Commercial Street, Waterloo, IA 5070
 1, United States
ROOM: Meeting Room AB
DESCRIPTION:Let your child discover their inner music-maker when Music Tog
 ether® comes to the Waterloo Public Library! Sing, dance, and jam along a
 t this special musical event.The 2026 Youth Summer Library Program is made
  possible with support from Friends of the Waterloo Public Library.Age gr
 oup: Birth-Kindergarten
URL:https://www.waterloopubliclibrary.org/event/music-togetherr-13852
END:VEVENT
END:VCALENDAR
